BEGIN:VCALENDAR
VERSION:2.0
PRODID:-//Lee County Bar Association Foundation - ECPv6.15.17//NONSGML v1.0//EN
CALSCALE:GREGORIAN
METHOD:PUBLISH
X-WR-CALNAME:Lee County Bar Association Foundation
X-ORIGINAL-URL:https://leebarfoundation.org
X-WR-CALDESC:Events for Lee County Bar Association Foundation
REFRESH-INTERVAL;VALUE=DURATION:PT1H
X-Robots-Tag:noindex
X-PUBLISHED-TTL:PT1H
BEGIN:VTIMEZONE
TZID:America/New_York
BEGIN:DAYLIGHT
TZOFFSETFROM:-0500
TZOFFSETTO:-0400
TZNAME:EDT
DTSTART:20220313T070000
END:DAYLIGHT
BEGIN:STANDARD
TZOFFSETFROM:-0400
TZOFFSETTO:-0500
TZNAME:EST
DTSTART:20221106T060000
END:STANDARD
BEGIN:DAYLIGHT
TZOFFSETFROM:-0500
TZOFFSETTO:-0400
TZNAME:EDT
DTSTART:20230312T070000
END:DAYLIGHT
BEGIN:STANDARD
TZOFFSETFROM:-0400
TZOFFSETTO:-0500
TZNAME:EST
DTSTART:20231105T060000
END:STANDARD
BEGIN:DAYLIGHT
TZOFFSETFROM:-0500
TZOFFSETTO:-0400
TZNAME:EDT
DTSTART:20240310T070000
END:DAYLIGHT
BEGIN:STANDARD
TZOFFSETFROM:-0400
TZOFFSETTO:-0500
TZNAME:EST
DTSTART:20241103T060000
END:STANDARD
BEGIN:DAYLIGHT
TZOFFSETFROM:-0500
TZOFFSETTO:-0400
TZNAME:EDT
DTSTART:20250309T070000
END:DAYLIGHT
BEGIN:STANDARD
TZOFFSETFROM:-0400
TZOFFSETTO:-0500
TZNAME:EST
DTSTART:20251102T060000
END:STANDARD
BEGIN:DAYLIGHT
TZOFFSETFROM:-0500
TZOFFSETTO:-0400
TZNAME:EDT
DTSTART:20260308T070000
END:DAYLIGHT
BEGIN:STANDARD
TZOFFSETFROM:-0400
TZOFFSETTO:-0500
TZNAME:EST
DTSTART:20261101T060000
END:STANDARD
END:VTIMEZONE
BEGIN:VEVENT
DTSTART;TZID=America/New_York:20250523T070000
DTEND;TZID=America/New_York:20250523T140000
DTSTAMP:20260423T052413
CREATED:20250220T190701Z
LAST-MODIFIED:20250518T192055Z
UID:1469-1747983600-1748008800@leebarfoundation.org
SUMMARY:2025 Lee County Bar Association Foundation Charity Golf Tournament
DESCRIPTION: \nAnnual Charity Golf Tournament\nMay 23rd\nBenefitting SW Florida non-profit organizations! \nFour Player Scramble ∞ 7AM Check-In ∞ 8:30AM Shotgun Start  \nBuffet Lunch ∞ Goody Bags \nMULLIGANS ∞ 50/50 ∞ RAFFLE Prizes  \nSILENT AUCTION & SPECIAL LIVE AUCTION ITEMS! \nThank you to our Sponsors:\n \nCan purchase your VIP Wristband below! ($100+ Value!)\nIncludes: \nUnlimited beverages! \nBeer and Water Cooler on your Cart at Tee off \n2 Mulligans \nEntries into Mini-Games at designated Holes \n 
URL:https://leebarfoundation.org/event/2025-lee-county-bar-association-foundation-charity-golf-tournament/
LOCATION:The Club at Gateway\, 12091 Gateway Greens Drive\, Fort Myers\, FL\, 33913\, United States
CATEGORIES:Golf Tournament
END:VEVENT
BEGIN:VEVENT
DTSTART;TZID=America/New_York:20240517T070000
DTEND;TZID=America/New_York:20240517T140000
DTSTAMP:20260423T052413
CREATED:20240228T190552Z
LAST-MODIFIED:20240510T141239Z
UID:1125-1715929200-1715954400@leebarfoundation.org
SUMMARY:2024 Lee County Bar Association Foundation Charity Golf Tournament
DESCRIPTION: \nCharity Golf Tournament\nBenefitting SW Florida non-profit organizations! \nFour Player Scramble ∞ 7AM Check-In ∞ 8:30AM Shotgun Start  \nBuffet Lunch ∞ Goody Bags \nMULLIGANS ∞ 50/50 ∞ RAFFLE Prizes  \nSILENT AUCTION & SPECIAL LIVE AUCTION ITEMS! \nThank you to our Title Sponsor:\n \nCan purchase your VIP Wristband below! ($100+ Value!)\nIncludes: \nUnlimited beverages! \nBeer and Water Cooler on your Cart at Tee off \n2 Mulligans \nLongest Marshmallow Drive attempt \n3 chances at the putting contest \n“Hire a Pro” advantage hole \nThe Hole of Fortune Game
URL:https://leebarfoundation.org/event/2024-lee-county-bar-association-foundation-charity-golf-tournament/
LOCATION:The Forest Country Club\, 6100 Club Blvd\, Fort Myers\, FL\, 33908\, United States
CATEGORIES:Golf Tournament
END:VEVENT
BEGIN:VEVENT
DTSTART;TZID=America/New_York:20230513T070000
DTEND;TZID=America/New_York:20230513T140000
DTSTAMP:20260423T052413
CREATED:20230210T232448Z
LAST-MODIFIED:20230511T180452Z
UID:357-1683961200-1683986400@leebarfoundation.org
SUMMARY:Lee County Bar Association Foundation Charity Golf Tournament
DESCRIPTION: \nCharity Golf Tournament\nBenefitting SW Florida non-profit organizations! \nFour Player Scramble ∞ 7AM Check-In ∞ 8:30AM Shotgun Start  \nBuffet Lunch ∞ Goody Bags \nMULLIGANS ∞ 50/50 ∞ RAFFLE Prizes  \nSILENT AUCTION & SPECIAL LIVE AUCTION ITEMS! \nThank you to our Title Sponsor:\n \nCan purchase your VIP Wristband below! ($100+ Value!)\nIncludes: \nUnlimited beverages! \nBeer and Water Cooler on your Cart at Tee off \n2 Mulligans \nLongest Marshmallow Drive attempt \n3 chances at the putting contest \n“Hire a Pro” advantage hole \nThe Hole of Fortune Game
URL:https://leebarfoundation.org/event/lee-county-bar-association-foundation-charity-golf-tournament/
LOCATION:The Forest Country Club\, 6100 Club Blvd\, Fort Myers\, FL\, 33908\, United States
CATEGORIES:Golf Tournament
END:VEVENT
END:VCALENDAR