BEGIN:VCALENDAR
VERSION:2.0
PRODID:-//Lee County Bar Association Foundation - ECPv6.15.17//NONSGML v1.0//EN
CALSCALE:GREGORIAN
METHOD:PUBLISH
X-WR-CALNAME:Lee County Bar Association Foundation
X-ORIGINAL-URL:https://leebarfoundation.org
X-WR-CALDESC:Events for Lee County Bar Association Foundation
REFRESH-INTERVAL;VALUE=DURATION:PT1H
X-Robots-Tag:noindex
X-PUBLISHED-TTL:PT1H
BEGIN:VTIMEZONE
TZID:America/New_York
BEGIN:DAYLIGHT
TZOFFSETFROM:-0500
TZOFFSETTO:-0400
TZNAME:EDT
DTSTART:20220313T070000
END:DAYLIGHT
BEGIN:STANDARD
TZOFFSETFROM:-0400
TZOFFSETTO:-0500
TZNAME:EST
DTSTART:20221106T060000
END:STANDARD
BEGIN:DAYLIGHT
TZOFFSETFROM:-0500
TZOFFSETTO:-0400
TZNAME:EDT
DTSTART:20230312T070000
END:DAYLIGHT
BEGIN:STANDARD
TZOFFSETFROM:-0400
TZOFFSETTO:-0500
TZNAME:EST
DTSTART:20231105T060000
END:STANDARD
BEGIN:DAYLIGHT
TZOFFSETFROM:-0500
TZOFFSETTO:-0400
TZNAME:EDT
DTSTART:20240310T070000
END:DAYLIGHT
BEGIN:STANDARD
TZOFFSETFROM:-0400
TZOFFSETTO:-0500
TZNAME:EST
DTSTART:20241103T060000
END:STANDARD
BEGIN:DAYLIGHT
TZOFFSETFROM:-0500
TZOFFSETTO:-0400
TZNAME:EDT
DTSTART:20250309T070000
END:DAYLIGHT
BEGIN:STANDARD
TZOFFSETFROM:-0400
TZOFFSETTO:-0500
TZNAME:EST
DTSTART:20251102T060000
END:STANDARD
BEGIN:DAYLIGHT
TZOFFSETFROM:-0500
TZOFFSETTO:-0400
TZNAME:EDT
DTSTART:20260308T070000
END:DAYLIGHT
BEGIN:STANDARD
TZOFFSETFROM:-0400
TZOFFSETTO:-0500
TZNAME:EST
DTSTART:20261101T060000
END:STANDARD
END:VTIMEZONE
BEGIN:VEVENT
DTSTART;TZID=America/New_York:20251009T173000
DTEND;TZID=America/New_York:20251009T193000
DTSTAMP:20260306T034856
CREATED:20250402T182024Z
LAST-MODIFIED:20250925T155419Z
UID:1525-1760031000-1760038200@leebarfoundation.org
SUMMARY:2025 Annual Wine Tasting hosted by FineMark National Bank & Trust
DESCRIPTION:The Lee County Bar Association Foundation Presents its Annual Wine Tasting Event \nA TIME TO WINE & DINE\nThursday\, October 9th\, 2025 \n5:30pmatFineMark National Bank & Trust8695 College Pkwy\, Suite 100Fort Myers\, FL 33919\nTICKETS REQUIRED – $75 PER PERSON \nAll funds raised benefit the Lee County Bar Association Foundation Grant Program \n  \nJoin as a Table Sponsor!\n\n \n\nPurchase a Table Sponsorship to showcase your business as a supporter. Table sponsors receive 4 Tickets to the event\, recognized at the LCBA – LCBAF joint membership meeting\, and in all of our social media posts leading up to and following the Wine Tasting event.\nTable Sponsors will have first refusal as sponsors for our next events.
URL:https://leebarfoundation.org/event/2025-annual-wine-tasting-hosted-by-finemark-national-bank-trust/
LOCATION:FineMark National Bank & Trust\, 8695 College Pkwy\, Suite 100\, Fort Myers\, FL\, 33919\, United States
CATEGORIES:Wine Tasting
END:VEVENT
BEGIN:VEVENT
DTSTART;TZID=America/New_York:20241106T173000
DTEND;TZID=America/New_York:20241106T193000
DTSTAMP:20260306T034856
CREATED:20240805T145032Z
LAST-MODIFIED:20241025T183202Z
UID:1294-1730914200-1730921400@leebarfoundation.org
SUMMARY:2024 Annual Wine Tasting hosted by FineMark National Bank & Trust
DESCRIPTION:The Lee County Bar Association Foundation Presents its Annual Wine Tasting Event \nA TIME TO WINE & DINE\nWednesday\, November 6th\, 2024 \n5:30pmatFineMark National Bank & Trust8695 College Pkwy\, Suite 100Fort Myers\, FL 33919 \nTICKETS REQUIRED – $75 PER PERSON \nAll funds raised benefit the Lee County Bar Association Foundation Grant Program \n  \nJoin as a Table Sponsor!\nPurchase a Table Sponsorship to showcase your business as a supporter. Table sponsors receive 4 Tickets to the event and will be recognized at all of the Foundation Grant Presentations for this year\,\nrecognized at the LCBA – LCBAF joint membership meeting\, and in all of our social media posts leading up to and following the Wine Tasting event.\nTable Sponsors will have first refusal as sponsors for our next events.
URL:https://leebarfoundation.org/event/2024-annual-wine-tasting-hosted-by-finemark-national-bank-trust/
LOCATION:FineMark National Bank & Trust\, 8695 College Pkwy\, Suite 100\, Fort Myers\, FL\, 33919\, United States
CATEGORIES:Wine Tasting
END:VEVENT
BEGIN:VEVENT
DTSTART;TZID=America/New_York:20231205T173000
DTEND;TZID=America/New_York:20231205T193000
DTSTAMP:20260306T034856
CREATED:20230915T001217Z
LAST-MODIFIED:20231127T214200Z
UID:1033-1701797400-1701804600@leebarfoundation.org
SUMMARY:2023 Annual Wine Tasting hosted by FineMark National Bank & Trust
DESCRIPTION:The Lee County Bar Association Foundation Presents its Annual Wine Tasting Event \nA TIME TO WINE & DINE\nTuesday\, December 5\, 2023 5:30pmatFineMark National Bank & Trust8695 College Pkwy\, Suite 100Fort Myers\, FL 33919 \nTICKETS REQUIRED – $75 PER PERSON \nAll funds raised benefit the Lee County Bar Association Foundation \n  \nJoin as a Table Sponsor!\nPurchase a Table Sponsorship to showcase your business as a supporter. Table sponsors will be recognized at all of the Foundation Grant Presentations for this year\, at the LCBA – LCBAF joint membership meeting\, and in all of our social media leading up to and following the Wine Tasting event. Table Sponsors will have first refusal as sponsors for our next events.
URL:https://leebarfoundation.org/event/2023-annual-wine-tasting-hosted-by-finemark-national-bank-trust/
LOCATION:FineMark National Bank & Trust\, 8695 College Pkwy\, Suite 100\, Fort Myers\, FL\, 33919\, United States
CATEGORIES:Wine Tasting
END:VEVENT
END:VCALENDAR